BEGIN:VCALENDAR
VERSION:2.0
PRODID:-//hacksw/handcal//NONSGML v1.0//EN
CALSCALE:GREGORIAN
BEGIN:VEVENT
ORGANIZER;CN=Silicon Motion Technology Corporation:MAILTO:no-reply@mail.gcs-web.com
DTEND:
UID:8cdf08f6-df62-45a7-803b-e4f3efb95613
DTSTAMP:1776847408
LOCATION:https://siliconmotiontechnologycorporation.gcs-web.com/events/event-details/morgan-stanley-asia-ai-summit-2026
DESCRIPTION:Event Details https://siliconmotiontechnologycorporation.gcs-web.com/events/event-details/morgan-stanley-asia-ai-summit-2026
URL;VALUE=URI:https://siliconmotiontechnologycorporation.gcs-web.com/events/event-details/morgan-stanley-asia-ai-summit-2026
SUMMARY:Silicon Motion Technology Corporation - Morgan Stanley Asia AI Summit 2026
DTSTART:20260528T040000Z
END:VEVENT
END:VCALENDAR