BEGIN:VCALENDAR
VERSION:2.0
PRODID:-//hacksw/handcal//NONSGML v1.0//EN
CALSCALE:GREGORIAN
BEGIN:VEVENT
ORGANIZER;CN=Silicon Motion Technology Corporation:MAILTO:no-reply@mail.gcs-web.com
DTEND:
UID:74418ee3-6818-4e5c-8bc6-5a6ab5b83c68
DTSTAMP:1776847049
LOCATION:https://siliconmotiontechnologycorporation.gcs-web.com/events/event-details/citis-2026-taiwan-tech-conference
DESCRIPTION:Event Details https://siliconmotiontechnologycorporation.gcs-web.com/events/event-details/citis-2026-taiwan-tech-conference
URL;VALUE=URI:https://siliconmotiontechnologycorporation.gcs-web.com/events/event-details/citis-2026-taiwan-tech-conference
SUMMARY:Silicon Motion Technology Corporation - Citi's 2026 Taiwan Tech Conference 
DTSTART:20260603T040000Z
END:VEVENT
END:VCALENDAR